BEGIN:VCALENDAR
VERSION:2.0
PRODID:-//eventon.com NONSGML v1.0//EN
CALSCALE:GREGORIAN
METHOD:PUBLISH
BEGIN:VEVENT
UID:69ea62450150b
DTSTAMP:20260423T181741Z
DTSTART:20260408T173000Z
DTEND:20260408T203000Z
LOCATION:Roberta's Society Roberta's Society
SUMMARY:Blues dance at Roberta's Society
DESCRIPTION:&#8212; Come and get in the mood for blues &#8212; 17.00 Doors 
 opens for dining 19.30 Intro to blues dance20.00 social dancing THE DANCE P
 ART IS FREE AND OPEN FOR EVERYONE You are welcome to join the dining at Rob
 erta&#8217;s. To do so\,  you need to sign up. Read more[..]\nhttps://danse
 paraplyen.dk/events/blues-dance-at-robertas-society/
URL:https://danseparaplyen.dk/events/blues-dance-at-robertas-society/
END:VEVENT
END:VCALENDAR