BEGIN:VCALENDAR
VERSION:2.0
PRODID:-//eventon.com NONSGML v1.0//EN
CALSCALE:GREGORIAN
METHOD:PUBLISH
BEGIN:VEVENT
UID:69eb4ddf59e6d
DTSTAMP:20260424T110255Z
DTSTART:20260410T164500Z
DTEND:20260410T213000Z
LOCATION:Stakladen Live Stakladen Live
SUMMARY:Zoukfest vol. 4
DESCRIPTION:Zoukfest er tilbage! Vi er nået til 4. udgave af den populære
  fredagsfest! Er der nogen bedre måde at starte weekenden på end med dans
 \,  kulørte lampe og godt selskab?Hvis du kan sige JA til alle 3\,  så er
  Zoukfest vol. 4 stedet at være fredag den 10. april. Vi[..]\nhttps://dans
 eparaplyen.dk/events/zoukfest-vol-4/
URL:https://danseparaplyen.dk/events/zoukfest-vol-4/
END:VEVENT
END:VCALENDAR