BEGIN:VCALENDAR
VERSION:2.0
PRODID:-//eventon.com NONSGML v1.0//EN
CALSCALE:GREGORIAN
METHOD:PUBLISH
BEGIN:VEVENT
UID:69e4d3fb53724
DTSTAMP:20260419T130915Z
DTSTART:20260904T100000Z
DTEND:20260906T150000Z
LOCATION:Aarhus\,  Denmark Aarhus\,  Denmark
SUMMARY:CASSANDRA FOX – intensive weekend in Aarhus
DESCRIPTION:Cassandra Fox &#8211; Intensive Weekend in DK/Aarhus &gt;&gt;&g
 t;danish below&lt;&lt;&lt; We are immensely happy to welcome Cassandra Fox 
 to Aarhus/Denmark for an intensive weekend on September 4-5-6\,  2026. We a
 re working hard to get everything in place\,  and we expect to be able to p
 ublish the finished program soon\,  so stay[..]\nhttps://danseparaplyen.dk/
 events/cassandra-fox-intensive-weekend-in-aarhus/
URL:https://danseparaplyen.dk/events/cassandra-fox-intensive-weekend-in-aarhus/
END:VEVENT
END:VCALENDAR