BEGIN:VCALENDAR
VERSION:2.0
PRODID:-//eventon.com NONSGML v1.0//EN
CALSCALE:GREGORIAN
METHOD:PUBLISH
BEGIN:VEVENT
UID:69ea8eb6bdc56
DTSTAMP:20260423T212718Z
DTSTART:20260408T190000Z
DTEND:20260408T210000Z
LOCATION:Folkestedet Folkestedet
SUMMARY:Bachata - Improvers (Manu & Cecile)
DESCRIPTION:Hello everyone\,  Hope to see you all for the bachata sensual i
 mprover level lessons at Folkestedet. Free first time 😉 This wednesday w
 e have Manu and Cecile who will teach the lessons 🙂 Improver lesson: 21:
 00 to 22:00 hoursPractice: 22:00 to 23:00 hours To join the first bachata c
 lass it[..]\nhttps://danseparaplyen.dk/events/bachata-improvers-manu-cecile
 /
URL:https://danseparaplyen.dk/events/bachata-improvers-manu-cecile/
END:VEVENT
END:VCALENDAR