BEGIN:VCALENDAR
VERSION:2.0
PRODID:-//eventon.com NONSGML v1.0//EN
CALSCALE:GREGORIAN
METHOD:PUBLISH
BEGIN:VEVENT
UID:69e9a61f5fc87
DTSTAMP:20260423T045455Z
DTSTART:20260614T090000Z
DTEND:20260614T101500Z
LOCATION:Valdemarsgade 1G
SUMMARY:// PERREO INTENSIVE //
DESCRIPTION:PERREO INTENSIVE · OPEN LEVEL 🔥 med Jetson 🕺 Vi invitere
 r til endnu en Tropica Intensive\,  hvor vi dykker ned i den kraftfulde\,  
 latinske og energifyldte stil Perreo. Denne intensive giver dig mulighed fo
 r at arbejde mere i dybden med groove\,  teknik\,  musikalitet og kropskont
 rol i et trygt\,  legende og[..]\nhttps://danseparaplyen.dk/events/perreo-i
 ntensive/
URL:https://danseparaplyen.dk/events/perreo-intensive/
END:VEVENT
END:VCALENDAR