BEGIN:VCALENDAR
VERSION:2.0
PRODID:-//eventon.com NONSGML v1.0//EN
CALSCALE:GREGORIAN
METHOD:PUBLISH
BEGIN:VEVENT
UID:69ed506fde604
DTSTAMP:20260425T233823Z
DTSTART:20260426T154500Z
DTEND:20260426T203000Z
LOCATION:Stakladen Live Stakladen Live
SUMMARY:Zouk og Salsa Night med Suelta con Afro
DESCRIPTION:Program (english version below): Studenterhus Aarhus og Salsacl
 ave glæder sig til at danse med jer – det bliver fantastisk!Bare trop op
  ved indgangen. Man skal ikke tilmelde sig på forhånd 🙂 17.45-18.45: Z
 OUK og SALSA SUELTA CON AFRO• Zouk for begyndere/improvers med Majbrit Du
 bgaard• Zouk for letøvede/øvede med Claus Dausel•[..]\nhttps://dansep
 araplyen.dk/events/zouk-og-salsa-night-med-suelta-con-afro/
URL:https://danseparaplyen.dk/events/zouk-og-salsa-night-med-suelta-con-afro/
END:VEVENT
END:VCALENDAR