BEGIN:VCALENDAR
VERSION:2.0
PRODID:-//eventon.com NONSGML v1.0//EN
CALSCALE:GREGORIAN
METHOD:PUBLISH
BEGIN:VEVENT
UID:69ed2af3482b5
DTSTAMP:20260425T205827Z
DTSTART:20260510T090000Z
DTEND:20260510T103000Z
LOCATION:Gammel Kirkevej 122\,  8530 Hjortshøj\,  Denmark Gammel Kirkevej 122\,  8530 Hjortshøj\,  Denmark
SUMMARY:Silent Mors Dags Groove
DESCRIPTION:Lad os mødes og hylde alverdens mødre og kvinder ved at danse
  sammen på plænen ved vandet for enden af Grønspættevej. Kom alene elle
 r inviter din mor med og få en skøn oplevelse sammen. Silent Groove er si
 mpel guidet dans til en masse forskelligartet musik\,  vi skal ikke gå til
 [..]\nhttps://danseparaplyen.dk/events/silent-mors-dags-groove/
URL:https://danseparaplyen.dk/events/silent-mors-dags-groove/
END:VEVENT
END:VCALENDAR