BEGIN:VCALENDAR
VERSION:2.0
PRODID:-//eventon.com NONSGML v1.0//EN
CALSCALE:GREGORIAN
METHOD:PUBLISH
BEGIN:VEVENT
UID:69ed13267a5c4
DTSTAMP:20260425T191654Z
DTSTART:20260510T090000Z
DTEND:20260510T123000Z
LOCATION:Brobjergskolen Brobjergskolen
SUMMARY:Sensual Bachata BOOTCAMP - Partner work
DESCRIPTION:ENGLISH BELOW ⬇️ 🔥Sensuel Bachata Bootcamp🔥 OBS: &#82
 20;MAN SKAL TILMELDES MED EN PARTNER!!!&#8221;Hvis du ikke har\,  så skriv
  til os eller i begivenheden\,  og vi vil forsøge at partner dig med nogen
 . Vi skifter partnere i Bootcamp. I denne workshop vi vil fokusere på båd
 e grundlæggende bachata-bevægelser\,  vendinger og figurer[..]\nhttps://d
 anseparaplyen.dk/events/sensual-bachata-bootcamp-partner-work/
URL:https://danseparaplyen.dk/events/sensual-bachata-bootcamp-partner-work/
END:VEVENT
END:VCALENDAR